{"text_format":"1","workbook":"xlsx","n_sheets":2,"sheets":["Calcolo RAI","BackupDati"],"not_rendered":{"charts":0,"images":1,"macros":1,"external_links":0,"defined_names":1,"comments":0,"pivot_tables":0},"unopened":[],"bounds":{"document_bytes":16777216,"sheet_cells":100000,"rows_first":2000,"rows_last":500,"rows_between":2000,"halvings":0,"cell_chars":16384,"cell_head_chars":4096},"cells_cut":0,"cells_raw":0,"read":"whole","date_system":"1900"}

{"sheet":"Calcolo RAI","index":0,"n_rows":33,"n_cols":19,"rows_kept":33,"cut":false,"hidden":false,"merged":[[32,0,32,1],[6,15,6,18],[14,11,14,14],[6,11,12,11],[2,10,2,19],[0,0,0,1],[20,11,20,14],[20,15,20,18],[26,10,26,19],[0,10,1,19],[25,13,25,14],[25,15,25,18],[5,11,5,18]]}
[null,null,{"$f":"C33","v":81.95},{"$f":"D33","v":10.9},0.78882301414348599,0.78882301414348599,{"$f":"G33","v":"Conforme n° 3 NON CONFORME n° 4"},{"$f":"H33","v":"RAI NON IDONEO"},null,null,{"$f":"H33","v":"RAI NON IDONEO"}]
["P","Nome del Locale o ambiente, ecc.","Superficie Locale NETTA  (m²)","Superficie netta Aeroilluminante -Finestre, balconi ecc.  (m²)","RAI Calcolato","RAI approsimato","Requisito Minimo                  RAI (≥ 1/8)","Esito","Congruità"]
[1,"Cucina",6,0.7,{"$f":"IF(OR(B3=\"\",C3=\"\",D3=\"\"),\"\",D3/C3)","v":0.11666666666666665},{"$f":"'Calcolo RAI'!$E3","v":0.11666666666666665},{"$f":"IF(OR(B3=\"\",C3=\"\",D3=\"\"),\"\",1/8)","v":0.125},{"$f":"IF(OR(B3=\"\",C3=\"\",D3=\"\"),\"\",IF(E3>=0.1245,\"CONFORME\",\"NON Conforme\"))","v":"NON Conforme"},{"$f":"IF(OR(B3=\"\",C3=\"\",D3=\"\"),\"\",'Calcolo RAI'!$E3-'Calcolo RAI'!$G3)","v":-8.3333333333333454E-3},null,"A I U T O   P E R   A L T R I   C O M P U T I"]
[2,"Soggiorno",12,2,0.16666666666666666,{"$f":"'Calcolo RAI'!$E4","v":0.16666666666666666},0.125,"CONFORME",{"$f":"IF(OR(B4=\"\",C4=\"\",D4=\"\"),\"\",'Calcolo RAI'!$E4-'Calcolo RAI'!$G4)","v":4.1666666666666657E-2},null,null,"Altezza","Larghezza ","Lunghezza","Superficie Calcolata","Volume Calcolato","Perimetro",null,"Area Trapezio"]
[3,"Salone",14.5,1,6.8965517241379309E-2,{"$f":"'Calcolo RAI'!$E5","v":6.8965517241379309E-2},0.125,"NON Conforme",{"$f":"IF(OR(B5=\"\",C5=\"\",D5=\"\"),\"\",'Calcolo RAI'!$E5-'Calcolo RAI'!$G5)","v":-5.6034482758620691E-2},null,null,2.75,4,6,{"$f":"IF(OR(M5=\"\",N5=\"\",M5<=0,N5<=0),\"\",(M5*N5))","v":24},{"$f":"IF(OR(L5=\"\",M5=\"\",N5=\"\",M5<=0,N5<=0,L5<=0),\"\",L5*M5*N5)","v":66},{"$f":"IF(OR(M5=\"\",N5=\"\",M5<=0,N5<=0),\"\",2*(M5+N5))","v":20},null,{"$f":"IF(OR(L5=\"\",M5=\"\",N5=\"\",M5<=0,N5<=0,L5<=0),\"\",(M5*N5)*L5/2)","v":33}]
[4,"Camera da letto",10,1.5,0.15,{"$f":"'Calcolo RAI'!$E6","v":0.15},0.125,"CONFORME",{"$f":"IF(OR(B6=\"\",C6=\"\",D6=\"\"),\"\",'Calcolo RAI'!$E6-'Calcolo RAI'!$G6)","v":2.4999999999999994E-2},null,null,{"$f":"IF(OR(L5=\"\",M5=\"\",N5=\"\",M5<=0,N5<=0,L5<=0),\"Errore:  Altezza, Larghezza e Lunghezza sono dati e/o valori numerici indispensabili per poter determinare tutti i risultati da visualizzare in alto e devono essere, tutti, maggiori di zero. Controlla e correggi!\",\"\")","v":""}]
[5,"Camera bambini",2,0,0,{"$f":"'Calcolo RAI'!$E7","v":0},0.125,"NON Conforme",{"$f":"IF(OR(B7=\"\",C7=\"\",D7=\"\"),\"\",'Calcolo RAI'!$E7-'Calcolo RAI'!$G7)","v":-0.125},null,null,"Teorema di Pitagora                                    Triangolo rettangolo","Cateto",1.5,null,"CERCHIO"]
[6,"Sala da pranzo",24,4.2,0.17500000000000002,{"$f":"'Calcolo RAI'!$E8","v":0.17500000000000002},0.125,"CONFORME",{"$f":"IF(OR(B8=\"\",C8=\"\",D8=\"\"),\"\",'Calcolo RAI'!$E8-'Calcolo RAI'!$G8)","v":5.0000000000000017E-2},null,null,null,"L'altro Cateto",2.36,null,"Raggio Cerchio",2.15,"Diametro cerchio",3.68]
[7,"Bagno",13.45,1.5,0.11152416356877325,{"$f":"'Calcolo RAI'!$E9","v":0.11152416356877325},0.125,"NON Conforme",{"$f":"IF(OR(B9=\"\",C9=\"\",D9=\"\"),\"\",'Calcolo RAI'!$E9-'Calcolo RAI'!$G9)","v":-1.3475836431226754E-2},null,null,null,"Calcolo Ipotenusa",{"$f":"SQRT(N7^2 + N8^2)","v":2.7963547700533278},null,"Area Calcolata del cerchio",{"$f":"3.14159 * Q8^2","v":14.521999774999998},"Area Calcolata del cerchio",{"$f":"3.14159 * (S8 / 2)^2","v":10.636167104}]
[8,null,null,null,"",{"$f":"'Calcolo RAI'!$E10","v":""},"","",{"$f":"IF(OR(B10=\"\",C10=\"\",D10=\"\"),\"\",'Calcolo RAI'!$E10-'Calcolo RAI'!$G10)","v":""},null,null,null,"AREA",{"$f":"0.5*N7*N8","v":1.77},null,"Circonferenza del cerchio",10.64,"Area del cerchio",9.01]
[9,null,null,null,"",{"$f":"'Calcolo RAI'!$E11","v":""},"","",{"$f":"IF(OR(B11=\"\",C11=\"\",D11=\"\"),\"\",'Calcolo RAI'!$E11-'Calcolo RAI'!$G11)","v":""},null,null,null,"Cateto Noto",7,null,"Area Calcolata del cerchio",{"$f":"3.14159 * (Q10/(2*3.14159))^2","v":9.0089413322553238},"Raggio Calcolato",{"$f":"SQRT(S10 /3.14159)","v":1.6935095207852766}]
[10,null,null,null,"",{"$f":"'Calcolo RAI'!$E12","v":""},"","",{"$f":"IF(OR(B12=\"\",C12=\"\",D12=\"\"),\"\",'Calcolo RAI'!$E12-'Calcolo RAI'!$G12)","v":""},null,null,null,"Ipotenusa",12,null,"Raggio del cerchio",4,"Diametro Calcolato",{"$f":"2 * S11","v":3.3870190415705532}]
[11,null,null,null,"",{"$f":"'Calcolo RAI'!$E13","v":""},"","",{"$f":"IF(OR(B13=\"\",C13=\"\",D13=\"\"),\"\",'Calcolo RAI'!$E13-'Calcolo RAI'!$G13)","v":""},null,null,null,"Calcolo Cateto",{"$f":"IF(N12^2 > N11^2, SQRT(N12^2 - N11^2), \"Errore: ipotenusa troppo piccola\")","v":9.7467943448089631},null,"Circonferenza calcolata del cerchio",{"$f":"2*3.14159*Q12","v":25.132719999999999},"Circonferenza calcolata",{"$f":"2 * 3.14159 * S11","v":10.640625150807633}]
[12,null,null,null,"",{"$f":"'Calcolo RAI'!$E14","v":""},"","",{"$f":"IF(OR(B14=\"\",C14=\"\",D14=\"\"),\"\",'Calcolo RAI'!$E14-'Calcolo RAI'!$G14)","v":""},null,null,null,null,null,null,null,null,"Lunghezza Corda",4]
[13,null,null,null,"",{"$f":"'Calcolo RAI'!$E15","v":""},"","",{"$f":"IF(OR(B15=\"\",C15=\"\",D15=\"\"),\"\",'Calcolo RAI'!$E15-'Calcolo RAI'!$G15)","v":""},null,null,"Triangolo - Teorema di Carnot e dei coseni",null,null,null,null,null,"Distanza dal centro della corda",4.5599999999999996]
[14,null,null,null,"",{"$f":"'Calcolo RAI'!$E16","v":""},"","",{"$f":"IF(OR(B16=\"\",C16=\"\",D16=\"\"),\"\",'Calcolo RAI'!$E16-'Calcolo RAI'!$G16)","v":""},null,null,"Gradi angolo del triangolo tra lati A e B",49,null,null,null,null,"Raggio",{"$f":"SQRT((S14/2)^2 + S15^2)","v":4.9793172222705389}]
[15,null,null,null,"",{"$f":"'Calcolo RAI'!$E17","v":""},"","",{"$f":"IF(OR(B17=\"\",C17=\"\",D17=\"\"),\"\",'Calcolo RAI'!$E17-'Calcolo RAI'!$G17)","v":""},null,null,"Lato A del triangolo",6.5,"Calcolo Perimetro",{"$f":"M17 + M18 + SQRT(M17^2 + M18^2 - 2 * M17 * M18 * COS(RADIANS(M16)))","v":15.756359333618647},null,null,"Diametro",{"$f":"2*S16","v":9.9586344445410777}]
[16,null,null,null,"",{"$f":"'Calcolo RAI'!$E18","v":""},"","",{"$f":"IF(OR(B18=\"\",C18=\"\",D18=\"\"),\"\",'Calcolo RAI'!$E18-'Calcolo RAI'!$G18)","v":""},null,null,"Lato B del triangolo",4.3499999999999996,"Area del triangolo",{"$f":"0.5 * M17 * M18 * SIN(RADIANS(M16))","v":10.669706690399439},null,null,"Circonferenza",{"$f":"2*3.1416*S16","v":31.28604597097025}]
[17,null,null,null,"",{"$f":"'Calcolo RAI'!$E19","v":""},"","",{"$f":"IF(OR(B19=\"\",C19=\"\",D19=\"\"),\"\",'Calcolo RAI'!$E19-'Calcolo RAI'!$G19)","v":""},null,null,"Calcolo terzo lato",{"$f":"SQRT(M17^2 + M18^2 - 2 * M17 * M18 * COS(RADIANS(M16)))","v":4.9063593336186466},"Altezza del Trinagolo",{"$f":"M18 * SIN(RADIANS(M16))","v":3.2829866739690581},null,null,"Area",{"$f":"3.1416*(S16^2)","v":77.891573759999986}]
[18,null,null,null,"",{"$f":"'Calcolo RAI'!$E20","v":""},"","",{"$f":"IF(OR(B20=\"\",C20=\"\",D20=\"\"),\"\",'Calcolo RAI'!$E20-'Calcolo RAI'!$G20)","v":""}]
[19,null,null,null,"",{"$f":"'Calcolo RAI'!$E21","v":""},"","",{"$f":"IF(OR(B21=\"\",C21=\"\",D21=\"\"),\"\",'Calcolo RAI'!$E21-'Calcolo RAI'!$G21)","v":""},null,null,"Poligono iregolare con quattro lati differenti ed altezza",null,null,null,"Trapezio per conoscere il lato obliquo e volume del prisma"]
[20,null,null,null,"",{"$f":"'Calcolo RAI'!$E22","v":""},"","",{"$f":"IF(OR(B22=\"\",C22=\"\",D22=\"\"),\"\",'Calcolo RAI'!$E22-'Calcolo RAI'!$G22)","v":""},null,null,"Lato 1",10,"Perimetro",{"$f":"IF(N26=\"Errore: i lati del poligono devono essere diversi tra loro e l'altezza deve essere maggiore di zero\",\"\",M22+M23+M24+M25)","v":48},"Base maggiore",12,"Lato obliquo isoscele",{"$f":" IF(P26=\"Errore: La base minore non può essere maggiore o uguale alla base maggiore e/o le due altezze devono essere maggiori di zero.\",\"\",SQRT(((Q22 - Q23) / 2)^2 + Q24^2))","v":10.012492197250394}]
[21,null,null,null,"",{"$f":"'Calcolo RAI'!$E23","v":""},"","",{"$f":"IF(OR(B23=\"\",C23=\"\",D23=\"\"),\"\",'Calcolo RAI'!$E23-'Calcolo RAI'!$G23)","v":""},null,null,"lato 2",11,"Semiperimetro",{"$f":"IF(N26=\"Errore: i lati del poligono devono essere diversi tra loro e l'altezza deve essere maggiore di zero\",\"\",(M22+M23+M24+M25)/2)","v":24},"Base minore",11,"Lato obliquo rettangolo",{"$f":" IF(P26=\"Errore: La base minore non può essere maggiore o uguale alla base maggiore e/o le due altezze devono essere maggiori di zero.\",\"\",Q24)","v":10}]
[22,null,null,null,"",{"$f":"'Calcolo RAI'!$E24","v":""},"","",{"$f":"IF(OR(B24=\"\",C24=\"\",D24=\"\"),\"\",'Calcolo RAI'!$E24-'Calcolo RAI'!$G24)","v":""},null,null,"lato 3",9,"Area della base formula di Bretschneider",{"$f":"IF(N26=\"Errore: i lati del poligono devono essere diversi tra loro e l'altezza deve essere maggiore di zero\",\"\",SQRT((O23-M22)*(O23-M23)*(O23-M24)*(O23-M25)))","v":127.98437404620925},"Altezza",10,"Area Trapezio",{"$f":"IF(P26=\"Errore: La base minore non può essere maggiore o uguale alla base maggiore e/o le due altezze devono essere maggiori di zero.\",\"\",((Q22+Q23)/2)*Q24)","v":115}]
[23,null,null,null,"",{"$f":"'Calcolo RAI'!$E25","v":""},"","",{"$f":"IF(OR(B25=\"\",C25=\"\",D25=\"\"),\"\",'Calcolo RAI'!$E25-'Calcolo RAI'!$G25)","v":""},null,null,"Lato 4",18,"Volume",{"$f":"IF(N26=\"Errore: i lati del poligono devono essere diversi tra loro e l'altezza deve essere maggiore di zero\",\"\",O24*M26)","v":345.55780992476502},"Altezza del prisma h prisma (la profondità)",2.7,"Volume del prisma",{"$f":"IF(P26=\"Errore: La base minore non può essere maggiore o uguale alla base maggiore e/o le due altezze devono essere maggiori di zero.\",\"\",S24*Q25)","v":310.5}]
[24,null,null,null,"",{"$f":"'Calcolo RAI'!$E26","v":""},"","",{"$f":"IF(OR(B26=\"\",C26=\"\",D26=\"\"),\"\",'Calcolo RAI'!$E26-'Calcolo RAI'!$G26)","v":""},null,null,"Altezza H",2.7,{"$f":"IF(AND(M22<>M23, M22<>M24, M22<>M25, M23<>M24, M23<>M25, M24<>M25, M26>0), \"\", \"Errore: i lati del poligono devono essere diversi tra loro e l'altezza deve essere maggiore di zero\")","v":""},null,{"$f":"IF(AND(Q22>Q23, Q22<>Q23, Q24>0, Q25>0), \"\",\"Errore: La base minore non può essere maggiore o uguale alla base maggiore e/o le due altezze devono essere maggiori di zero.\")","v":""}]
[25,null,null,null,"",{"$f":"'Calcolo RAI'!$E27","v":""},"","",{"$f":"IF(OR(B27=\"\",C27=\"\",D27=\"\"),\"\",'Calcolo RAI'!$E27-'Calcolo RAI'!$G27)","v":""}]
[26,null,null,null,"",{"$f":"'Calcolo RAI'!$E28","v":""},"","",{"$f":"IF(OR(B28=\"\",C28=\"\",D28=\"\"),\"\",'Calcolo RAI'!$E28-'Calcolo RAI'!$G28)","v":""}]
[27,null,null,null,"",{"$f":"'Calcolo RAI'!$E29","v":""},"","",{"$f":"IF(OR(B29=\"\",C29=\"\",D29=\"\"),\"\",'Calcolo RAI'!$E29-'Calcolo RAI'!$G29)","v":""}]
[28,null,null,null,"",{"$f":"'Calcolo RAI'!$E30","v":""},"","",{"$f":"IF(OR(B30=\"\",C30=\"\",D30=\"\"),\"\",'Calcolo RAI'!$E30-'Calcolo RAI'!$G30)","v":""}]
[29,null,null,null,"",{"$f":"'Calcolo RAI'!$E31","v":""},"","",{"$f":"IF(OR(B31=\"\",C31=\"\",D31=\"\"),\"\",'Calcolo RAI'!$E31-'Calcolo RAI'!$G31)","v":""}]
[30,null,null,null,"",{"$f":"'Calcolo RAI'!$E32","v":""},"","",{"$f":"IF(OR(B32=\"\",C32=\"\",D32=\"\"),\"\",'Calcolo RAI'!$E32-'Calcolo RAI'!$G32)","v":""}]
["SOMMANO",null,{"$f":"SUBTOTAL(109,'Calcolo RAI'!$C$3:$C$32)","v":81.95},{"$f":"SUBTOTAL(109,'Calcolo RAI'!$D$3:$D$32)","v":10.9},{"$f":"SUBTOTAL(109,'Calcolo RAI'!$E$3:$E$32)","v":0.78882301414348599},{"$f":"SUBTOTAL(109,'Calcolo RAI'!$F$3:$F$32)","v":0.78882301414348599},{"$f":"IF(COUNTIF(H3:H32, \"conforme\")>0, \"Conforme n° \" & COUNTIF(H3:H32, \"conforme\"), \"\") & IF(COUNTIF(H3:H32, \"non conforme\")>0, \" NON CONFORME n° \" & COUNTIF(H3:H32, \"non conforme\"), \"\")","v":"Conforme n° 3 NON CONFORME n° 4"},{"$f":"IF(COUNTIF(H3:H32,\"non conforme\")>0,\"RAI NON IDONEO\",IF(COUNTIF(H3:H32,\"conforme\")>0,\"RAI IDONEO\",IF(COUNTIF(H3:H32,\"\")>0,\"IN ATTESA DEI DATI\")))","v":"RAI NON IDONEO"}]

{"sheet":"BackupDati","index":1,"n_rows":122,"n_cols":3,"rows_kept":122,"cut":false,"hidden":true,"merged":[]}
["$B$3","Cucina","Cucina"]
["$C$3",6,"Soggiorno"]
["$D$3",0.7,"Salone"]
["$B$4","Soggiorno","Camera da letto"]
["$C$4",12,"Camera bambini"]
["$D$4",2,"Sala da pranzo"]
["$B$5","Salone","Camera VEPA"]
["$C$5",14.5,"Antibagno"]
["$D$5",1,"Bagno"]
["$L$5",2.75,"Stanza ospiti"]
["$M$5",4,"Antibagno ospiti"]
["$N$5",6,"Bagno ospiti"]
["$B$6","Camera da letto","Stanza hobby"]
["$C$6",10,"Camera studio"]
["$D$6",1.5,"Sala ufficio"]
["$B$7","Camera bambini","Sala palestra"]
["$C$7",2,"Sala biblioteca"]
["$D$7",0,"Sala cinema"]
["$N$7",1.5,"Locale tecnico"]
["$B$8","Sala da pranzo","Ingresso"]
["$C$8",24,"Corridoio"]
["$D$8",4.2,"Disimpegno"]
["$N$8",2.36,"Ripostiglio"]
["$Q$8",2.15,"Lavanderia"]
["$S$8",3.68,"Mansarda"]
["$B$9",null,"Sottotetto"]
["$C$9",null,"Taverna"]
["$D$9",null,"Cantina"]
["$B$10",null,"Deposito"]
["$C$10",null,"Garage"]
["$D$10"]
["$Q$10",10.64]
["$S$10",9.01]
["$B$11"]
["$C$11"]
["$D$11"]
["$N$11",7]
["$B$12"]
["$C$12"]
["$D$12"]
["$N$12",12]
["$Q$12",4]
["$B$13"]
["$C$13"]
["$D$13"]
["$B$14"]
["$C$14"]
["$D$14"]
["$S$14",4]
["$B$15"]
["$C$15"]
["$D$15"]
["$S$15",4.5599999999999996]
["$B$16"]
["$C$16"]
["$D$16"]
["$M$16",49]
["$B$17"]
["$C$17"]
["$D$17"]
["$M$17",6.5]
["$B$18"]
["$C$18"]
["$D$18"]
["$M$18",4.3499999999999996]
["$B$19"]
["$C$19"]
["$D$19"]
["$B$20"]
["$C$20"]
["$D$20"]
["$M$20"]
["$B$21"]
["$C$21"]
["$D$21"]
["$B$22"]
["$C$22"]
["$D$22"]
["$M$22",10]
["$Q$22",12]
["$B$23"]
["$C$23"]
["$D$23"]
["$M$23",11]
["$Q$23",11]
["$B$24"]
["$C$24"]
["$D$24"]
["$M$24",9]
["$Q$24",10]
["$B$25"]
["$C$25"]
["$D$25"]
["$M$25",18]
["$Q$25",2.7]
["$B$26"]
["$C$26"]
["$D$26"]
["$M$26",2.7]
["$B$27"]
["$C$27"]
["$D$27"]
["$B$28"]
["$C$28"]
["$D$28"]
["$M$28"]
["$B$29"]
["$C$29"]
["$D$29"]
["$M$29"]
["$B$30"]
["$C$30"]
["$D$30"]
["$M$30"]
["$B$31"]
["$C$31"]
["$D$31"]
["$M$31"]
["$B$32"]
["$C$32"]
["$D$32"]
["$D$32"]